Package: GRmetrics Version: 1.35.0 Command: /Library/Frameworks/R.framework/Resources/bin/R CMD INSTALL GRmetrics StartedAt: 2025-07-01 15:36:44 -0400 (Tue, 01 Jul 2025) EndedAt: 2025-07-01 15:37:11 -0400 (Tue, 01 Jul 2025) EllapsedTime: 27.3 seconds RetCode: 0 Status: OK