Package: GRmetrics Version: 1.35.0 Command: rm -rf GRmetrics.buildbin-libdir && mkdir GRmetrics.buildbin-libdir && /Users/biocbuild/BBS/utils/build-universal.sh GRmetrics_1.35.0.tar.gz /Library/Frameworks/R.framework/Resources/bin/R GRmetrics.buildbin-libdir StartedAt: 2025-07-02 01:00:32 -0400 (Wed, 02 Jul 2025) EndedAt: 2025-07-02 01:01:05 -0400 (Wed, 02 Jul 2025) EllapsedTime: 32.4 seconds RetCode: 0 Status: OK PackageFile: GRmetrics_1.35.0.tgz PackageFileSize: 2.003 MiB