Package: GRmetrics Version: 1.35.0 Command: /Library/Frameworks/R.framework/Resources/bin/R CMD check --install=check:GRmetrics.install-out.txt --library=/Library/Frameworks/R.framework/Resources/library --no-vignettes --timings GRmetrics_1.35.0.tar.gz StartedAt: 2025-07-11 19:34:13 -0400 (Fri, 11 Jul 2025) EndedAt: 2025-07-11 19:35:00 -0400 (Fri, 11 Jul 2025) EllapsedTime: 46.5 seconds RetCode: 0 Status: OK CheckDir: GRmetrics.Rcheck Warnings: 0