Package: GRaNIE Version: 1.13.0 Command: /home/biocbuild/R/R/bin/R CMD check --install=check:GRaNIE.install-out.txt --library=/home/biocbuild/R/R/site-library --no-vignettes --timings GRaNIE_1.13.0.tar.gz StartedAt: 2025-07-22 08:02:45 -0000 (Tue, 22 Jul 2025) EndedAt: 2025-07-22 08:02:51 -0000 (Tue, 22 Jul 2025) EllapsedTime: 6.0 seconds RetCode: 1 Status: ERROR CheckDir: GRaNIE.Rcheck Warnings: NA