Package: GRaNIE Version: 1.13.0 Command: chmod a+r GRaNIE -R && F:\biocbuild\bbs-3.22-bioc\R\bin\R.exe CMD build --keep-empty-dirs --no-resave-data GRaNIE StartedAt: 2025-07-24 19:40:24 -0400 (Thu, 24 Jul 2025) EndedAt: 2025-07-24 19:45:21 -0400 (Thu, 24 Jul 2025) EllapsedTime: 296.3 seconds RetCode: 0 Status: OK PackageFile: GRaNIE_1.13.0.tar.gz PackageFileSize: 3.754 MiB