Package: GRaNIE Version: 1.13.0 Command: rm -rf GRaNIE.buildbin-libdir && mkdir GRaNIE.buildbin-libdir && /Users/biocbuild/BBS/utils/build-universal.sh GRaNIE_1.13.0.tar.gz /Library/Frameworks/R.framework/Resources/bin/R GRaNIE.buildbin-libdir StartedAt: 2025-10-11 02:32:53 -0400 (Sat, 11 Oct 2025) EndedAt: 2025-10-11 02:34:07 -0400 (Sat, 11 Oct 2025) EllapsedTime: 73.9 seconds RetCode: 0 Status: OK PackageFile: GRaNIE_1.13.0.tgz PackageFileSize: 9.225 MiB