Package: GRaNIE Version: 1.13.0 Command: /Library/Frameworks/R.framework/Resources/bin/R CMD check --install=check:GRaNIE.install-out.txt --library=/Library/Frameworks/R.framework/Resources/library --no-vignettes --timings GRaNIE_1.13.0.tar.gz StartedAt: 2025-10-10 19:48:23 -0400 (Fri, 10 Oct 2025) EndedAt: 2025-10-10 19:51:34 -0400 (Fri, 10 Oct 2025) EllapsedTime: 190.4 seconds RetCode: 0 Status: OK CheckDir: GRaNIE.Rcheck Warnings: 0