Package: GRaNIE Version: 1.13.0 Command: /Library/Frameworks/R.framework/Resources/bin/R CMD build --keep-empty-dirs --no-resave-data GRaNIE StartedAt: 2025-10-10 16:37:02 -0400 (Fri, 10 Oct 2025) EndedAt: 2025-10-10 16:38:47 -0400 (Fri, 10 Oct 2025) EllapsedTime: 105.1 seconds RetCode: 0 Status: OK PackageFile: GRaNIE_1.13.0.tar.gz PackageFileSize: 8.102 MiB