Package: GRaNIE Version: 1.13.0 Command: rm -rf GRaNIE.buildbin-libdir && mkdir GRaNIE.buildbin-libdir && /Users/biocbuild/BBS/utils/build-universal.sh GRaNIE_1.13.0.tar.gz /Library/Frameworks/R.framework/Resources/bin/R GRaNIE.buildbin-libdir StartedAt: 2025-10-10 22:43:29 -0400 (Fri, 10 Oct 2025) EndedAt: 2025-10-10 22:43:51 -0400 (Fri, 10 Oct 2025) EllapsedTime: 22.5 seconds RetCode: 0 Status: OK PackageFile: GRaNIE_1.13.0.tgz PackageFileSize: 9.021 MiB