Package: GRENITS Version: 1.61.0 Command: F:\biocbuild\bbs-3.22-bioc\R\bin\R.exe CMD check --no-multiarch --install=check:GRENITS.install-out.txt --library=F:\biocbuild\bbs-3.22-bioc\R\library --no-vignettes --timings GRENITS_1.61.0.tar.gz StartedAt: 2025-07-12 02:37:30 -0400 (Sat, 12 Jul 2025) EndedAt: 2025-07-12 02:41:30 -0400 (Sat, 12 Jul 2025) EllapsedTime: 240.0 seconds RetCode: 0 Status: OK CheckDir: GRENITS.Rcheck Warnings: 0