Package: GRENITS Version: 1.61.0 Command: chmod a+r GRENITS -R && F:\biocbuild\bbs-3.22-bioc\R\bin\R.exe CMD build --keep-empty-dirs --no-resave-data GRENITS StartedAt: 2025-07-07 19:29:15 -0400 (Mon, 07 Jul 2025) EndedAt: 2025-07-07 19:31:27 -0400 (Mon, 07 Jul 2025) EllapsedTime: 132.4 seconds RetCode: 0 Status: OK PackageFile: GRENITS_1.61.0.tar.gz PackageFileSize: 151.1 KiB