Package: GRENITS Version: 1.61.0 Command: rm -rf GRENITS.buildbin-libdir && mkdir GRENITS.buildbin-libdir && F:\biocbuild\bbs-3.22-bioc\R\bin\R.exe CMD INSTALL --build --library=GRENITS.buildbin-libdir GRENITS_1.61.0.tar.gz StartedAt: 2025-07-08 09:05:02 -0400 (Tue, 08 Jul 2025) EndedAt: 2025-07-08 09:06:49 -0400 (Tue, 08 Jul 2025) EllapsedTime: 106.7 seconds RetCode: 0 Status: OK PackageFile: GRENITS_1.61.0.zip PackageFileSize: 757.4 KiB