Package: GRENITS Version: 1.61.0 Command: /home/biocbuild/bbs-3.22-bioc/R/bin/R CMD INSTALL GRENITS StartedAt: 2025-07-14 15:07:18 -0400 (Mon, 14 Jul 2025) EndedAt: 2025-07-14 15:08:36 -0400 (Mon, 14 Jul 2025) EllapsedTime: 78.1 seconds RetCode: 0 Status: OK