Package: GRENITS Version: 1.61.0 Command: /home/biocbuild/bbs-3.22-bioc/R/bin/R CMD build --keep-empty-dirs --no-resave-data --md5 GRENITS StartedAt: 2025-07-14 17:32:37 -0400 (Mon, 14 Jul 2025) EndedAt: 2025-07-14 17:34:15 -0400 (Mon, 14 Jul 2025) EllapsedTime: 98.1 seconds RetCode: 0 Status: OK PackageFile: GRENITS_1.61.0.tar.gz PackageFileSize: 268.3 KiB