Package: GRENITS Version: 1.61.0 Command: rm -rf GRENITS.buildbin-libdir && mkdir GRENITS.buildbin-libdir && /Users/biocbuild/BBS/utils/build-universal.sh GRENITS_1.61.0.tar.gz /Library/Frameworks/R.framework/Resources/bin/R GRENITS.buildbin-libdir StartedAt: 2025-07-21 01:06:10 -0400 (Mon, 21 Jul 2025) EndedAt: 2025-07-21 01:07:48 -0400 (Mon, 21 Jul 2025) EllapsedTime: 98.5 seconds RetCode: 0 Status: OK PackageFile: GRENITS_1.61.0.tgz PackageFileSize: 577.2 KiB