Package: GRENITS Version: 1.61.0 Command: rm -rf GRENITS.buildbin-libdir && mkdir GRENITS.buildbin-libdir && /Users/biocbuild/BBS/utils/build-universal.sh GRENITS_1.61.0.tar.gz /Library/Frameworks/R.framework/Resources/bin/R GRENITS.buildbin-libdir StartedAt: 2025-07-07 22:19:00 -0400 (Mon, 07 Jul 2025) EndedAt: 2025-07-07 22:19:24 -0400 (Mon, 07 Jul 2025) EllapsedTime: 23.5 seconds RetCode: 0 Status: OK PackageFile: GRENITS_1.61.0.tgz PackageFileSize: 529.6 KiB