Package: GPA Version: 1.21.0 Command: /home/biocbuild/R/R/bin/R CMD check --install=check:GPA.install-out.txt --library=/home/biocbuild/R/R/site-library --no-vignettes --timings GPA_1.21.0.tar.gz StartedAt: 2025-06-27 07:52:02 -0000 (Fri, 27 Jun 2025) EndedAt: 2025-06-27 07:53:19 -0000 (Fri, 27 Jun 2025) EllapsedTime: 77.0 seconds RetCode: 0 Status: OK CheckDir: GPA.Rcheck Warnings: 0