Package: GPA Version: 1.21.0 Command: /Library/Frameworks/R.framework/Resources/bin/R CMD build --keep-empty-dirs --no-resave-data GPA StartedAt: 2025-07-21 16:30:01 -0400 (Mon, 21 Jul 2025) EndedAt: 2025-07-21 16:31:00 -0400 (Mon, 21 Jul 2025) EllapsedTime: 58.6 seconds RetCode: 0 Status: OK PackageFile: GPA_1.21.0.tar.gz PackageFileSize: 311.2 KiB