Package: GOstats Version: 2.75.0 Command: /home/biocbuild/R/R/bin/R CMD INSTALL GOstats StartedAt: 2025-07-17 21:02:43 -0000 (Thu, 17 Jul 2025) EndedAt: 2025-07-17 21:03:11 -0000 (Thu, 17 Jul 2025) EllapsedTime: 27.9 seconds RetCode: 0 Status: OK