Package: GOstats Version: 2.75.0 Command: F:\biocbuild\bbs-3.22-bioc\R\bin\R.exe CMD INSTALL GOstats StartedAt: 2025-07-24 16:42:49 -0400 (Thu, 24 Jul 2025) EndedAt: 2025-07-24 16:43:28 -0400 (Thu, 24 Jul 2025) EllapsedTime: 38.7 seconds RetCode: 0 Status: OK