Package: GOstats Version: 2.75.0 Command: chmod a+r GOstats -R && F:\biocbuild\bbs-3.22-bioc\R\bin\R.exe CMD build --keep-empty-dirs --no-resave-data GOstats StartedAt: 2025-07-24 19:39:40 -0400 (Thu, 24 Jul 2025) EndedAt: 2025-07-24 20:19:40 -0400 (Thu, 24 Jul 2025) EllapsedTime: 2400.7 seconds RetCode: None Status: TIMEOUT PackageFile: None PackageFileSize: NA