Package: GOstats Version: 2.75.0 Command: rm -rf GOstats.buildbin-libdir && mkdir GOstats.buildbin-libdir && /Users/biocbuild/BBS/utils/build-universal.sh GOstats_2.75.0.tar.gz /Library/Frameworks/R.framework/Resources/bin/R GOstats.buildbin-libdir StartedAt: 2025-07-22 22:26:35 -0400 (Tue, 22 Jul 2025) EndedAt: 2025-07-22 22:26:45 -0400 (Tue, 22 Jul 2025) EllapsedTime: 10.2 seconds RetCode: 0 Status: OK PackageFile: GOstats_2.75.0.tgz PackageFileSize: 1.891 MiB