Package: GOpro Version: 1.35.0 Command: /home/biocbuild/R/R/bin/R CMD INSTALL GOpro StartedAt: 2025-07-24 21:53:51 -0000 (Thu, 24 Jul 2025) EndedAt: 2025-07-24 21:54:39 -0000 (Thu, 24 Jul 2025) EllapsedTime: 48.5 seconds RetCode: 0 Status: OK