Package: GOpro Version: 1.35.0 Command: /home/biocbuild/R/R/bin/R CMD build --keep-empty-dirs --no-resave-data GOpro StartedAt: 2025-07-25 01:02:13 -0000 (Fri, 25 Jul 2025) EndedAt: 2025-07-25 01:03:39 -0000 (Fri, 25 Jul 2025) EllapsedTime: 86.0 seconds RetCode: 0 Status: OK PackageFile: GOpro_1.35.0.tar.gz PackageFileSize: 835.9 KiB