Package: GOpro Version: 1.35.0 Command: /Library/Frameworks/R.framework/Resources/bin/R CMD build --keep-empty-dirs --no-resave-data GOpro StartedAt: 2025-07-22 17:00:07 -0400 (Tue, 22 Jul 2025) EndedAt: 2025-07-22 17:01:20 -0400 (Tue, 22 Jul 2025) EllapsedTime: 73.2 seconds RetCode: 0 Status: OK PackageFile: GOpro_1.35.0.tar.gz PackageFileSize: 1.056 MiB