Package: GOpro Version: 1.35.0 Command: /Library/Frameworks/R.framework/Resources/bin/R CMD INSTALL GOpro StartedAt: 2025-07-22 15:24:56 -0400 (Tue, 22 Jul 2025) EndedAt: 2025-07-22 15:25:10 -0400 (Tue, 22 Jul 2025) EllapsedTime: 14.1 seconds RetCode: 0 Status: OK