Package: GOpro Version: 1.35.0 Command: /Library/Frameworks/R.framework/Resources/bin/R CMD check --install=check:GOpro.install-out.txt --library=/Library/Frameworks/R.framework/Resources/library --no-vignettes --timings GOpro_1.35.0.tar.gz StartedAt: 2025-07-22 19:34:36 -0400 (Tue, 22 Jul 2025) EndedAt: 2025-07-22 19:36:03 -0400 (Tue, 22 Jul 2025) EllapsedTime: 86.9 seconds RetCode: 0 Status: OK CheckDir: GOpro.Rcheck Warnings: 0