Package: GOpro Version: 1.35.0 Maintainer: Lidia Chrabaszcz MaintainerEmail: chrabaszcz.lidia at gmail.com git_url: https://git.bioconductor.org/packages/GOpro git_branch: devel git_last_commit: 23d47a6 git_last_commit_date: 2025-04-15 11:05:37 -0400 (Tue, 15 Apr 2025)