Package: GOfuncR Version: 1.29.0 Command: /home/biocbuild/R/R/bin/R CMD INSTALL GOfuncR StartedAt: 2025-07-03 20:58:11 -0000 (Thu, 03 Jul 2025) EndedAt: 2025-07-03 21:00:29 -0000 (Thu, 03 Jul 2025) EllapsedTime: 138.3 seconds RetCode: 0 Status: OK