Package: GOexpress Version: 1.43.0 Command: F:\biocbuild\bbs-3.22-bioc\R\bin\R.exe CMD INSTALL GOexpress StartedAt: 2025-07-21 15:58:54 -0400 (Mon, 21 Jul 2025) EndedAt: 2025-07-21 15:59:25 -0400 (Mon, 21 Jul 2025) EllapsedTime: 31.6 seconds RetCode: 0 Status: OK