Package: GOexpress Version: 1.43.0 Command: chmod a+r GOexpress -R && F:\biocbuild\bbs-3.22-bioc\R\bin\R.exe CMD build --keep-empty-dirs --no-resave-data GOexpress StartedAt: 2025-07-21 19:30:56 -0400 (Mon, 21 Jul 2025) EndedAt: 2025-07-21 19:31:49 -0400 (Mon, 21 Jul 2025) EllapsedTime: 53.4 seconds RetCode: 0 Status: OK PackageFile: GOexpress_1.43.0.tar.gz PackageFileSize: 2.346 MiB