Package: GOexpress Version: 1.43.0 Command: rm -rf GOexpress.buildbin-libdir && mkdir GOexpress.buildbin-libdir && F:\biocbuild\bbs-3.22-bioc\R\bin\R.exe CMD INSTALL --build --library=GOexpress.buildbin-libdir GOexpress_1.43.0.tar.gz StartedAt: 2025-07-22 09:14:52 -0400 (Tue, 22 Jul 2025) EndedAt: 2025-07-22 09:15:26 -0400 (Tue, 22 Jul 2025) EllapsedTime: 33.7 seconds RetCode: 0 Status: OK PackageFile: GOexpress_1.43.0.zip PackageFileSize: 2.893 MiB