Package: GOexpress Version: 1.43.0 Command: /Library/Frameworks/R.framework/Resources/bin/R CMD check --install=check:GOexpress.install-out.txt --library=/Library/Frameworks/R.framework/Resources/library --no-vignettes --timings GOexpress_1.43.0.tar.gz StartedAt: 2025-06-30 20:53:51 -0400 (Mon, 30 Jun 2025) EndedAt: 2025-06-30 20:56:11 -0400 (Mon, 30 Jun 2025) EllapsedTime: 140.5 seconds RetCode: 0 Status: WARNINGS CheckDir: GOexpress.Rcheck Warnings: 1