Package: GOexpress Version: 1.43.0 Command: /Library/Frameworks/R.framework/Resources/bin/R CMD build --keep-empty-dirs --no-resave-data GOexpress StartedAt: 2025-07-15 17:14:45 -0400 (Tue, 15 Jul 2025) EndedAt: 2025-07-15 17:15:27 -0400 (Tue, 15 Jul 2025) EllapsedTime: 42.3 seconds RetCode: 0 Status: OK PackageFile: GOexpress_1.43.0.tar.gz PackageFileSize: 2.343 MiB