Package: GOexpress Version: 1.43.0 Command: rm -rf GOexpress.buildbin-libdir && mkdir GOexpress.buildbin-libdir && /Users/biocbuild/BBS/utils/build-universal.sh GOexpress_1.43.0.tar.gz /Library/Frameworks/R.framework/Resources/bin/R GOexpress.buildbin-libdir StartedAt: 2025-07-01 00:43:12 -0400 (Tue, 01 Jul 2025) EndedAt: 2025-07-01 00:43:41 -0400 (Tue, 01 Jul 2025) EllapsedTime: 28.9 seconds RetCode: 0 Status: OK PackageFile: GOexpress_1.43.0.tgz PackageFileSize: 2.89 MiB