Package: GOTHiC Version: 1.45.0 Command: /home/biocbuild/R/R/bin/R CMD check --install=check:GOTHiC.install-out.txt --library=/home/biocbuild/R/R/site-library --no-vignettes --timings GOTHiC_1.45.0.tar.gz StartedAt: 2025-07-11 08:53:15 -0000 (Fri, 11 Jul 2025) EndedAt: 2025-07-11 09:08:38 -0000 (Fri, 11 Jul 2025) EllapsedTime: 922.9 seconds RetCode: 1 Status: ERROR CheckDir: GOTHiC.Rcheck Warnings: NA