Package: GOTHiC Version: 1.45.0 Command: /home/biocbuild/R/R/bin/R CMD build --keep-empty-dirs --no-resave-data GOTHiC StartedAt: 2025-07-11 01:15:48 -0000 (Fri, 11 Jul 2025) EndedAt: 2025-07-11 01:16:39 -0000 (Fri, 11 Jul 2025) EllapsedTime: 50.0 seconds RetCode: 0 Status: OK PackageFile: GOTHiC_1.45.0.tar.gz PackageFileSize: 1.686 MiB