Package: GOTHiC Version: 1.45.0 Command: rm -rf GOTHiC.buildbin-libdir && mkdir GOTHiC.buildbin-libdir && F:\biocbuild\bbs-3.22-bioc\R\bin\R.exe CMD INSTALL --build --library=GOTHiC.buildbin-libdir GOTHiC_1.45.0.tar.gz StartedAt: 2025-07-12 08:59:45 -0400 (Sat, 12 Jul 2025) EndedAt: 2025-07-12 09:00:30 -0400 (Sat, 12 Jul 2025) EllapsedTime: 44.5 seconds RetCode: 0 Status: OK PackageFile: GOTHiC_1.45.0.zip PackageFileSize: 1.636 MiB