Package: GOTHiC Version: 1.45.0 Command: /home/biocbuild/bbs-3.22-bioc/R/bin/R CMD INSTALL GOTHiC StartedAt: 2025-07-11 15:48:33 -0400 (Fri, 11 Jul 2025) EndedAt: 2025-07-11 15:49:10 -0400 (Fri, 11 Jul 2025) EllapsedTime: 37.3 seconds RetCode: 0 Status: OK