Package: GOTHiC Version: 1.45.0 Command: /Library/Frameworks/R.framework/Resources/bin/R CMD INSTALL GOTHiC StartedAt: 2025-07-11 15:40:36 -0400 (Fri, 11 Jul 2025) EndedAt: 2025-07-11 15:41:28 -0400 (Fri, 11 Jul 2025) EllapsedTime: 51.3 seconds RetCode: 0 Status: OK