Package: GOTHiC Version: 1.45.0 Command: rm -rf GOTHiC.buildbin-libdir && mkdir GOTHiC.buildbin-libdir && /Users/biocbuild/BBS/utils/build-universal.sh GOTHiC_1.45.0.tar.gz /Library/Frameworks/R.framework/Resources/bin/R GOTHiC.buildbin-libdir StartedAt: 2025-07-12 00:59:17 -0400 (Sat, 12 Jul 2025) EndedAt: 2025-07-12 01:00:11 -0400 (Sat, 12 Jul 2025) EllapsedTime: 54.4 seconds RetCode: 0 Status: OK PackageFile: GOTHiC_1.45.0.tgz PackageFileSize: 1.759 MiB