Package: GOTHiC Version: 1.45.0 Command: /Library/Frameworks/R.framework/Resources/bin/R CMD INSTALL GOTHiC StartedAt: 2025-07-11 15:26:07 -0400 (Fri, 11 Jul 2025) EndedAt: 2025-07-11 15:26:23 -0400 (Fri, 11 Jul 2025) EllapsedTime: 15.6 seconds RetCode: 0 Status: OK