Package: GOTHiC Version: 1.45.0 Command: /Library/Frameworks/R.framework/Resources/bin/R CMD check --install=check:GOTHiC.install-out.txt --library=/Library/Frameworks/R.framework/Resources/library --no-vignettes --timings GOTHiC_1.45.0.tar.gz StartedAt: 2025-07-11 19:32:59 -0400 (Fri, 11 Jul 2025) EndedAt: 2025-07-11 19:35:04 -0400 (Fri, 11 Jul 2025) EllapsedTime: 124.5 seconds RetCode: 0 Status: OK CheckDir: GOTHiC.Rcheck Warnings: 0