Package: GOTHiC Version: 1.45.0 Maintainer: Borbala Mifsud MaintainerEmail: b.mifsud at qmul.ac.uk git_url: https://git.bioconductor.org/packages/GOTHiC git_branch: devel git_last_commit: f76ecb0 git_last_commit_date: 2025-04-15 11:47:40 -0400 (Tue, 15 Apr 2025)