Package: GNOSIS Version: 1.7.0 Command: F:\biocbuild\bbs-3.22-bioc\R\bin\R.exe CMD INSTALL GNOSIS StartedAt: 2025-07-11 17:00:44 -0400 (Fri, 11 Jul 2025) EndedAt: 2025-07-11 17:02:32 -0400 (Fri, 11 Jul 2025) EllapsedTime: 107.7 seconds RetCode: 0 Status: OK