Package: GNOSIS Version: 1.7.0 Command: chmod a+r GNOSIS -R && F:\biocbuild\bbs-3.22-bioc\R\bin\R.exe CMD build --keep-empty-dirs --no-resave-data GNOSIS StartedAt: 2025-07-11 19:24:25 -0400 (Fri, 11 Jul 2025) EndedAt: 2025-07-11 19:26:26 -0400 (Fri, 11 Jul 2025) EllapsedTime: 121.1 seconds RetCode: 0 Status: OK PackageFile: GNOSIS_1.7.0.tar.gz PackageFileSize: 3.374 MiB