Package: GNOSIS Version: 1.7.0 Command: rm -rf GNOSIS.buildbin-libdir && mkdir GNOSIS.buildbin-libdir && F:\biocbuild\bbs-3.22-bioc\R\bin\R.exe CMD INSTALL --build --library=GNOSIS.buildbin-libdir GNOSIS_1.7.0.tar.gz StartedAt: 2025-07-12 08:59:08 -0400 (Sat, 12 Jul 2025) EndedAt: 2025-07-12 09:00:43 -0400 (Sat, 12 Jul 2025) EllapsedTime: 95.6 seconds RetCode: 0 Status: OK PackageFile: GNOSIS_1.7.0.zip PackageFileSize: 2.534 MiB