Package: GMRP Version: 1.37.0 Command: F:\biocbuild\bbs-3.22-bioc\R\bin\R.exe CMD INSTALL GMRP StartedAt: 2025-07-20 15:40:39 -0400 (Sun, 20 Jul 2025) EndedAt: 2025-07-20 15:40:56 -0400 (Sun, 20 Jul 2025) EllapsedTime: 16.5 seconds RetCode: 0 Status: OK