Package: GMRP Version: 1.37.0 Command: chmod a+r GMRP -R && F:\biocbuild\bbs-3.22-bioc\R\bin\R.exe CMD build --keep-empty-dirs --no-resave-data GMRP StartedAt: 2025-07-20 19:25:26 -0400 (Sun, 20 Jul 2025) EndedAt: 2025-07-20 19:25:55 -0400 (Sun, 20 Jul 2025) EllapsedTime: 28.7 seconds RetCode: 0 Status: OK PackageFile: GMRP_1.37.0.tar.gz PackageFileSize: 898 KiB