Package: GMRP Version: 1.37.0 Command: rm -rf GMRP.buildbin-libdir && mkdir GMRP.buildbin-libdir && F:\biocbuild\bbs-3.22-bioc\R\bin\R.exe CMD INSTALL --build --library=GMRP.buildbin-libdir GMRP_1.37.0.tar.gz StartedAt: 2025-07-21 09:10:34 -0400 (Mon, 21 Jul 2025) EndedAt: 2025-07-21 09:10:55 -0400 (Mon, 21 Jul 2025) EllapsedTime: 20.9 seconds RetCode: 0 Status: OK PackageFile: GMRP_1.37.0.zip PackageFileSize: 979.8 KiB